Package: Banksy Version: 1.5.6 Command: rm -rf Banksy.buildbin-libdir && mkdir Banksy.buildbin-libdir && /Users/biocbuild/BBS/utils/build-universal.sh Banksy_1.5.6.tar.gz /Library/Frameworks/R.framework/Resources/bin/R Banksy.buildbin-libdir StartedAt: 2025-07-16 22:10:21 -0400 (Wed, 16 Jul 2025) EndedAt: 2025-07-16 22:10:33 -0400 (Wed, 16 Jul 2025) EllapsedTime: 12.2 seconds RetCode: 0 Status: OK PackageFile: Banksy_1.5.6.tgz PackageFileSize: 4.258 MiB