Package: Banksy Version: 1.5.6 Maintainer: Joseph Lee MaintainerEmail: joseph.lee at u.nus.edu git_url: https://git.bioconductor.org/packages/Banksy git_branch: devel git_last_commit: 855c310 git_last_commit_date: 2025-06-13 12:39:41 -0400 (Fri, 13 Jun 2025)