Package: BadRegionFinder Version: 1.37.0 Command: /Library/Frameworks/R.framework/Resources/bin/R CMD INSTALL BadRegionFinder StartedAt: 2025-07-01 15:21:38 -0400 (Tue, 01 Jul 2025) EndedAt: 2025-07-01 15:21:54 -0400 (Tue, 01 Jul 2025) EllapsedTime: 16.5 seconds RetCode: 0 Status: OK