Package: BadRegionFinder Version: 1.37.0 Command: /Library/Frameworks/R.framework/Resources/bin/R CMD build --keep-empty-dirs --no-resave-data BadRegionFinder StartedAt: 2025-07-01 15:38:36 -0400 (Tue, 01 Jul 2025) EndedAt: 2025-07-01 15:39:09 -0400 (Tue, 01 Jul 2025) EllapsedTime: 33.4 seconds RetCode: 0 Status: OK PackageFile: BadRegionFinder_1.37.0.tar.gz PackageFileSize: 833 KiB