Package: BadRegionFinder Version: 1.37.0 Command: rm -rf BadRegionFinder.buildbin-libdir && mkdir BadRegionFinder.buildbin-libdir && /Users/biocbuild/BBS/utils/build-universal.sh BadRegionFinder_1.37.0.tar.gz /Library/Frameworks/R.framework/Resources/bin/R BadRegionFinder.buildbin-libdir StartedAt: 2025-07-01 22:10:55 -0400 (Tue, 01 Jul 2025) EndedAt: 2025-07-01 22:11:14 -0400 (Tue, 01 Jul 2025) EllapsedTime: 18.4 seconds RetCode: 0 Status: OK PackageFile: BadRegionFinder_1.37.0.tgz PackageFileSize: 929.6 KiB