Package: BaalChIP Version: 1.35.0 Command: /home/biocbuild/R/R/bin/R CMD check --install=check:BaalChIP.install-out.txt --library=/home/biocbuild/R/R/site-library --no-vignettes --timings BaalChIP_1.35.0.tar.gz StartedAt: 2025-07-18 04:26:16 -0000 (Fri, 18 Jul 2025) EndedAt: 2025-07-18 04:39:34 -0000 (Fri, 18 Jul 2025) EllapsedTime: 798.3 seconds RetCode: 0 Status: WARNINGS CheckDir: BaalChIP.Rcheck Warnings: 1