Package: BaalChIP Version: 1.35.0 Command: /home/biocbuild/R/R/bin/R CMD build --keep-empty-dirs --no-resave-data BaalChIP StartedAt: 2025-07-17 21:40:11 -0000 (Thu, 17 Jul 2025) EndedAt: 2025-07-17 21:42:51 -0000 (Thu, 17 Jul 2025) EllapsedTime: 160.0 seconds RetCode: 0 Status: OK PackageFile: BaalChIP_1.35.0.tar.gz PackageFileSize: 44.89 MiB