Package: BUSseq Version: 1.15.0 Command: /home/biocbuild/R/R/bin/R CMD build --keep-empty-dirs --no-resave-data BUSseq StartedAt: 2025-10-02 22:29:06 -0000 (Thu, 02 Oct 2025) EndedAt: 2025-10-02 22:30:21 -0000 (Thu, 02 Oct 2025) EllapsedTime: 75.0 seconds RetCode: 0 Status: OK PackageFile: BUSseq_1.15.0.tar.gz PackageFileSize: 1.035 MiB