Package: BUSpaRse Version: 1.23.1 Command: /home/biocbuild/R/R/bin/R CMD INSTALL BUSpaRse StartedAt: 2025-07-24 21:47:57 -0000 (Thu, 24 Jul 2025) EndedAt: 2025-07-24 21:49:16 -0000 (Thu, 24 Jul 2025) EllapsedTime: 78.4 seconds RetCode: 0 Status: OK