Package: BUSpaRse Version: 1.23.1 Command: /home/biocbuild/R/R/bin/R CMD build --keep-empty-dirs --no-resave-data BUSpaRse StartedAt: 2025-07-24 23:09:41 -0000 (Thu, 24 Jul 2025) EndedAt: 2025-07-24 23:12:10 -0000 (Thu, 24 Jul 2025) EllapsedTime: 149.1 seconds RetCode: 1 Status: ERROR PackageFile: None PackageFileSize: NA