Package: BUScorrect Version: 1.27.0 Command: /home/biocbuild/R/R/bin/R CMD build --keep-empty-dirs --no-resave-data BUScorrect StartedAt: 2025-06-26 22:18:06 -0000 (Thu, 26 Jun 2025) EndedAt: 2025-06-26 22:21:08 -0000 (Thu, 26 Jun 2025) EllapsedTime: 182.1 seconds RetCode: 0 Status: OK PackageFile: BUScorrect_1.27.0.tar.gz PackageFileSize: 3.509 MiB