Package: BUS Version: 1.65.0 Command: F:\biocbuild\bbs-3.22-bioc\R\bin\R.exe CMD check --no-multiarch --install=check:BUS.install-out.txt --library=F:\biocbuild\bbs-3.22-bioc\R\library --no-vignettes --timings BUS_1.65.0.tar.gz StartedAt: 2025-07-12 00:00:01 -0400 (Sat, 12 Jul 2025) EndedAt: 2025-07-12 00:00:49 -0400 (Sat, 12 Jul 2025) EllapsedTime: 47.8 seconds RetCode: 0 Status: OK CheckDir: BUS.Rcheck Warnings: 0