Package: BUS Version: 1.65.0 Command: /Library/Frameworks/R.framework/Resources/bin/R CMD build --keep-empty-dirs --no-resave-data BUS StartedAt: 2025-07-14 16:19:39 -0400 (Mon, 14 Jul 2025) EndedAt: 2025-07-14 16:19:51 -0400 (Mon, 14 Jul 2025) EllapsedTime: 12.6 seconds RetCode: 0 Status: OK PackageFile: BUS_1.65.0.tar.gz PackageFileSize: 2.822 MiB