Package: BUS Version: 1.65.0 Command: /Library/Frameworks/R.framework/Resources/bin/R CMD build --keep-empty-dirs --no-resave-data BUS StartedAt: 2025-07-24 15:56:29 -0400 (Thu, 24 Jul 2025) EndedAt: 2025-07-24 15:56:34 -0400 (Thu, 24 Jul 2025) EllapsedTime: 5.1 seconds RetCode: 0 Status: OK PackageFile: BUS_1.65.0.tar.gz PackageFileSize: 2.823 MiB