Package: BSgenomeForge Version: 1.9.2 Command: /home/biocbuild/R/R/bin/R CMD check --install=check:BSgenomeForge.install-out.txt --library=/home/biocbuild/R/R/site-library --no-vignettes --timings BSgenomeForge_1.9.2.tar.gz StartedAt: 2025-10-03 05:18:42 -0000 (Fri, 03 Oct 2025) EndedAt: 2025-10-03 05:25:14 -0000 (Fri, 03 Oct 2025) EllapsedTime: 392.4 seconds RetCode: 0 Status: OK CheckDir: BSgenomeForge.Rcheck Warnings: 0