Package: BSgenomeForge Version: 1.9.2 Command: /home/biocbuild/R/R/bin/R CMD build --keep-empty-dirs --no-resave-data BSgenomeForge StartedAt: 2025-10-02 22:27:46 -0000 (Thu, 02 Oct 2025) EndedAt: 2025-10-02 22:29:06 -0000 (Thu, 02 Oct 2025) EllapsedTime: 80.0 seconds RetCode: 0 Status: OK PackageFile: BSgenomeForge_1.9.2.tar.gz PackageFileSize: 708.6 KiB