Package: BSgenomeForge Version: 1.9.1 Command: F:\biocbuild\bbs-3.22-bioc\R\bin\R.exe CMD check --no-multiarch --install=check:BSgenomeForge.install-out.txt --library=F:\biocbuild\bbs-3.22-bioc\R\library --no-vignettes --timings BSgenomeForge_1.9.1.tar.gz StartedAt: 2025-08-15 01:14:14 -0400 (Fri, 15 Aug 2025) EndedAt: 2025-08-15 01:19:17 -0400 (Fri, 15 Aug 2025) EllapsedTime: 303.0 seconds RetCode: 1 Status: ERROR CheckDir: BSgenomeForge.Rcheck Warnings: NA