Package: BSgenomeForge Version: 1.9.1 Command: chmod a+r BSgenomeForge -R && F:\biocbuild\bbs-3.22-bioc\R\bin\R.exe CMD build --keep-empty-dirs --no-resave-data BSgenomeForge StartedAt: 2025-08-14 18:52:03 -0400 (Thu, 14 Aug 2025) EndedAt: 2025-08-14 18:53:33 -0400 (Thu, 14 Aug 2025) EllapsedTime: 90.2 seconds RetCode: 0 Status: OK PackageFile: BSgenomeForge_1.9.1.tar.gz PackageFileSize: 453.5 KiB