Package: BREW3R.r Version: 1.5.0 Command: F:\biocbuild\bbs-3.22-bioc\R\bin\R.exe CMD check --no-multiarch --install=check:BREW3R.r.install-out.txt --library=F:\biocbuild\bbs-3.22-bioc\R\library --no-vignettes --timings BREW3R.r_1.5.0.tar.gz StartedAt: 2025-07-08 00:00:07 -0400 (Tue, 08 Jul 2025) EndedAt: 2025-07-08 00:02:21 -0400 (Tue, 08 Jul 2025) EllapsedTime: 134.4 seconds RetCode: 0 Status: OK CheckDir: BREW3R.r.Rcheck Warnings: 0