Package: BREW3R.r Version: 1.5.0 Command: rm -rf BREW3R.r.buildbin-libdir && mkdir BREW3R.r.buildbin-libdir && F:\biocbuild\bbs-3.22-bioc\R\bin\R.exe CMD INSTALL --build --library=BREW3R.r.buildbin-libdir BREW3R.r_1.5.0.tar.gz StartedAt: 2025-07-08 08:32:05 -0400 (Tue, 08 Jul 2025) EndedAt: 2025-07-08 08:32:19 -0400 (Tue, 08 Jul 2025) EllapsedTime: 14.3 seconds RetCode: 0 Status: OK PackageFile: BREW3R.r_1.5.0.zip PackageFileSize: 1.842 MiB