Package: BRAIN Version: 1.55.0 Command: F:\biocbuild\bbs-3.22-bioc\R\bin\R.exe CMD check --no-multiarch --install=check:BRAIN.install-out.txt --library=F:\biocbuild\bbs-3.22-bioc\R\library --no-vignettes --timings BRAIN_1.55.0.tar.gz StartedAt: 2025-07-19 00:03:09 -0400 (Sat, 19 Jul 2025) EndedAt: 2025-07-19 00:04:19 -0400 (Sat, 19 Jul 2025) EllapsedTime: 70.3 seconds RetCode: 0 Status: WARNINGS CheckDir: BRAIN.Rcheck Warnings: 2