Package: BRAIN Version: 1.55.0 Command: /Library/Frameworks/R.framework/Resources/bin/R CMD check --install=check:BRAIN.install-out.txt --library=/Library/Frameworks/R.framework/Resources/library --no-vignettes --timings BRAIN_1.55.0.tar.gz StartedAt: 2025-07-21 19:26:23 -0400 (Mon, 21 Jul 2025) EndedAt: 2025-07-21 19:27:41 -0400 (Mon, 21 Jul 2025) EllapsedTime: 78.2 seconds RetCode: 0 Status: WARNINGS CheckDir: BRAIN.Rcheck Warnings: 2