Package: BRAIN Version: 1.55.0 Command: /Library/Frameworks/R.framework/Resources/bin/R CMD build --keep-empty-dirs --no-resave-data BRAIN StartedAt: 2025-07-20 16:18:42 -0400 (Sun, 20 Jul 2025) EndedAt: 2025-07-20 16:19:07 -0400 (Sun, 20 Jul 2025) EllapsedTime: 25.2 seconds RetCode: 0 Status: OK PackageFile: BRAIN_1.55.0.tar.gz PackageFileSize: 2.008 MiB