Package: BRAIN Version: 1.55.0 Command: /Library/Frameworks/R.framework/Resources/bin/R CMD INSTALL BRAIN StartedAt: 2025-07-22 15:12:55 -0400 (Tue, 22 Jul 2025) EndedAt: 2025-07-22 15:13:00 -0400 (Tue, 22 Jul 2025) EllapsedTime: 4.8 seconds RetCode: 0 Status: OK