Package: BRAIN Version: 1.55.0 Command: rm -rf BRAIN.buildbin-libdir && mkdir BRAIN.buildbin-libdir && /Users/biocbuild/BBS/utils/build-universal.sh BRAIN_1.55.0.tar.gz /Library/Frameworks/R.framework/Resources/bin/R BRAIN.buildbin-libdir StartedAt: 2025-07-22 22:17:43 -0400 (Tue, 22 Jul 2025) EndedAt: 2025-07-22 22:17:49 -0400 (Tue, 22 Jul 2025) EllapsedTime: 6.1 seconds RetCode: 0 Status: OK PackageFile: BRAIN_1.55.0.tgz PackageFileSize: 2.055 MiB