Package: BPRMeth Version: 1.35.0 Command: /home/biocbuild/R/R/bin/R CMD build --keep-empty-dirs --no-resave-data BPRMeth StartedAt: 2025-07-24 23:07:06 -0000 (Thu, 24 Jul 2025) EndedAt: 2025-07-24 23:09:10 -0000 (Thu, 24 Jul 2025) EllapsedTime: 124.1 seconds RetCode: 0 Status: OK PackageFile: BPRMeth_1.35.0.tar.gz PackageFileSize: 2.685 MiB