Package: BPRMeth Version: 1.35.0 Command: chmod a+r BPRMeth -R && F:\biocbuild\bbs-3.22-bioc\R\bin\R.exe CMD build --keep-empty-dirs --no-resave-data BPRMeth StartedAt: 2025-07-20 17:42:16 -0400 (Sun, 20 Jul 2025) EndedAt: 2025-07-20 17:45:19 -0400 (Sun, 20 Jul 2025) EllapsedTime: 183.3 seconds RetCode: 0 Status: OK PackageFile: BPRMeth_1.35.0.tar.gz PackageFileSize: 2.48 MiB