Package: BPRMeth Version: 1.35.0 Command: rm -rf BPRMeth.buildbin-libdir && mkdir BPRMeth.buildbin-libdir && /Users/biocbuild/BBS/utils/build-universal.sh BPRMeth_1.35.0.tar.gz /Library/Frameworks/R.framework/Resources/bin/R BPRMeth.buildbin-libdir StartedAt: 2025-07-21 00:53:30 -0400 (Mon, 21 Jul 2025) EndedAt: 2025-07-21 00:54:09 -0400 (Mon, 21 Jul 2025) EllapsedTime: 39.3 seconds RetCode: 0 Status: OK PackageFile: BPRMeth_1.35.0.tgz PackageFileSize: 3.793 MiB