Package: BOBaFIT Version: 1.13.0 Command: /home/biocbuild/R/R/bin/R CMD INSTALL BOBaFIT StartedAt: 2025-06-30 21:13:21 -0000 (Mon, 30 Jun 2025) EndedAt: 2025-06-30 21:14:25 -0000 (Mon, 30 Jun 2025) EllapsedTime: 64.3 seconds RetCode: 0 Status: OK