Package: BOBaFIT Version: 1.13.0 Command: /home/biocbuild/R/R/bin/R CMD check --install=check:BOBaFIT.install-out.txt --library=/home/biocbuild/R/R/site-library --no-vignettes --timings BOBaFIT_1.13.0.tar.gz StartedAt: 2025-07-01 05:25:25 -0000 (Tue, 01 Jul 2025) EndedAt: 2025-07-01 05:34:05 -0000 (Tue, 01 Jul 2025) EllapsedTime: 520.4 seconds RetCode: 0 Status: WARNINGS CheckDir: BOBaFIT.Rcheck Warnings: 1