Package: BOBaFIT Version: 1.13.0 Command: /Library/Frameworks/R.framework/Resources/bin/R CMD check --install=check:BOBaFIT.install-out.txt --library=/Library/Frameworks/R.framework/Resources/library --no-vignettes --timings BOBaFIT_1.13.0.tar.gz StartedAt: 2025-07-02 18:19:50 -0400 (Wed, 02 Jul 2025) EndedAt: 2025-07-02 18:22:27 -0400 (Wed, 02 Jul 2025) EllapsedTime: 157.0 seconds RetCode: 0 Status: WARNINGS CheckDir: BOBaFIT.Rcheck Warnings: 1