Package: BOBaFIT Version: 1.13.0 Command: /Library/Frameworks/R.framework/Resources/bin/R CMD build --keep-empty-dirs --no-resave-data BOBaFIT StartedAt: 2025-07-02 15:46:09 -0400 (Wed, 02 Jul 2025) EndedAt: 2025-07-02 15:46:47 -0400 (Wed, 02 Jul 2025) EllapsedTime: 38.4 seconds RetCode: 0 Status: OK PackageFile: BOBaFIT_1.13.0.tar.gz PackageFileSize: 2.496 MiB