Package: BLMA Version: 1.33.0 Command: /Library/Frameworks/R.framework/Resources/bin/R CMD build --keep-empty-dirs --no-resave-data BLMA StartedAt: 2025-07-01 15:45:01 -0400 (Tue, 01 Jul 2025) EndedAt: 2025-07-01 15:46:38 -0400 (Tue, 01 Jul 2025) EllapsedTime: 97.1 seconds RetCode: 0 Status: OK PackageFile: BLMA_1.33.0.tar.gz PackageFileSize: 2.826 MiB