Package: BG2 Version: 1.9.0 Command: /home/biocbuild/R/R/bin/R CMD INSTALL BG2 StartedAt: 2025-07-17 20:18:41 -0000 (Thu, 17 Jul 2025) EndedAt: 2025-07-17 20:19:06 -0000 (Thu, 17 Jul 2025) EllapsedTime: 25.0 seconds RetCode: 0 Status: OK