Package: BG2 Version: 1.9.0 Command: /home/biocbuild/bbs-3.22-bioc/R/bin/R CMD check --install=check:BG2.install-out.txt --library=/home/biocbuild/bbs-3.22-bioc/R/site-library --timings BG2_1.9.0.tar.gz StartedAt: 2025-07-18 20:16:09 -0400 (Fri, 18 Jul 2025) EndedAt: 2025-07-18 20:34:57 -0400 (Fri, 18 Jul 2025) EllapsedTime: 1128.3 seconds RetCode: 0 Status: OK CheckDir: BG2.Rcheck Warnings: 0