Package: BG2 Version: 1.9.0 Command: rm -rf BG2.buildbin-libdir && mkdir BG2.buildbin-libdir && /Users/biocbuild/BBS/utils/build-universal.sh BG2_1.9.0.tar.gz /Library/Frameworks/R.framework/Resources/bin/R BG2.buildbin-libdir StartedAt: 2025-07-19 00:38:35 -0400 (Sat, 19 Jul 2025) EndedAt: 2025-07-19 00:38:42 -0400 (Sat, 19 Jul 2025) EllapsedTime: 7.0 seconds RetCode: 0 Status: OK PackageFile: BG2_1.9.0.tgz PackageFileSize: 1.165 MiB