Package: BG2 Version: 1.9.0 Command: /Library/Frameworks/R.framework/Resources/bin/R CMD check --install=check:BG2.install-out.txt --library=/Library/Frameworks/R.framework/Resources/library --no-vignettes --timings BG2_1.9.0.tar.gz StartedAt: 2025-07-18 18:13:32 -0400 (Fri, 18 Jul 2025) EndedAt: 2025-07-18 18:17:41 -0400 (Fri, 18 Jul 2025) EllapsedTime: 248.9 seconds RetCode: 0 Status: OK CheckDir: BG2.Rcheck Warnings: 0