Package: BEclear Version: 2.25.0 Command: /home/biocbuild/R/R/bin/R CMD INSTALL BEclear StartedAt: 2025-07-21 20:24:27 -0000 (Mon, 21 Jul 2025) EndedAt: 2025-07-21 20:24:54 -0000 (Mon, 21 Jul 2025) EllapsedTime: 26.9 seconds RetCode: 0 Status: OK