Package: BEclear Version: 2.25.0 Command: /home/biocbuild/R/R/bin/R CMD check --install=check:BEclear.install-out.txt --library=/home/biocbuild/R/R/site-library --no-vignettes --timings BEclear_2.25.0.tar.gz StartedAt: 2025-07-22 04:51:55 -0000 (Tue, 22 Jul 2025) EndedAt: 2025-07-22 04:53:34 -0000 (Tue, 22 Jul 2025) EllapsedTime: 98.2 seconds RetCode: 0 Status: OK CheckDir: BEclear.Rcheck Warnings: 0