Package: BEclear Version: 2.25.0 Command: /home/biocbuild/R/R/bin/R CMD build --keep-empty-dirs --no-resave-data BEclear StartedAt: 2025-07-21 22:10:20 -0000 (Mon, 21 Jul 2025) EndedAt: 2025-07-21 22:10:51 -0000 (Mon, 21 Jul 2025) EllapsedTime: 31.0 seconds RetCode: 0 Status: OK PackageFile: BEclear_2.25.0.tar.gz PackageFileSize: 657.4 KiB