Package: BEclear Version: 2.25.0 Command: /Library/Frameworks/R.framework/Resources/bin/R CMD INSTALL BEclear StartedAt: 2025-07-04 15:07:42 -0400 (Fri, 04 Jul 2025) EndedAt: 2025-07-04 15:08:13 -0400 (Fri, 04 Jul 2025) EllapsedTime: 31.0 seconds RetCode: 0 Status: OK