Package: BEclear Version: 2.25.0 Command: /Library/Frameworks/R.framework/Resources/bin/R CMD build --keep-empty-dirs --no-resave-data BEclear StartedAt: 2025-07-04 16:02:13 -0400 (Fri, 04 Jul 2025) EndedAt: 2025-07-04 16:02:45 -0400 (Fri, 04 Jul 2025) EllapsedTime: 31.8 seconds RetCode: 0 Status: OK PackageFile: BEclear_2.25.0.tar.gz PackageFileSize: 716.4 KiB