Package: BEclear Version: 2.25.0 Command: /Library/Frameworks/R.framework/Resources/bin/R CMD INSTALL BEclear StartedAt: 2025-07-22 15:03:24 -0400 (Tue, 22 Jul 2025) EndedAt: 2025-07-22 15:03:32 -0400 (Tue, 22 Jul 2025) EllapsedTime: 8.3 seconds RetCode: 0 Status: OK