Package: BEclear Version: 2.25.0 Command: /Library/Frameworks/R.framework/Resources/bin/R CMD check --install=check:BEclear.install-out.txt --library=/Library/Frameworks/R.framework/Resources/library --no-vignettes --timings BEclear_2.25.0.tar.gz StartedAt: 2025-07-22 18:12:22 -0400 (Tue, 22 Jul 2025) EndedAt: 2025-07-22 18:12:49 -0400 (Tue, 22 Jul 2025) EllapsedTime: 27.4 seconds RetCode: 0 Status: OK CheckDir: BEclear.Rcheck Warnings: 0