Package: BEclear Version: 2.25.0 Command: /Library/Frameworks/R.framework/Resources/bin/R CMD build --keep-empty-dirs --no-resave-data BEclear StartedAt: 2025-07-22 15:41:53 -0400 (Tue, 22 Jul 2025) EndedAt: 2025-07-22 15:42:03 -0400 (Tue, 22 Jul 2025) EllapsedTime: 10.1 seconds RetCode: 0 Status: OK PackageFile: BEclear_2.25.0.tar.gz PackageFileSize: 716.9 KiB