Package: BERT Version: 1.5.0 Command: F:\biocbuild\bbs-3.22-bioc\R\bin\R.exe CMD check --no-multiarch --install=check:BERT.install-out.txt --library=F:\biocbuild\bbs-3.22-bioc\R\library --no-vignettes --timings BERT_1.5.0.tar.gz StartedAt: 2025-06-29 23:34:42 -0400 (Sun, 29 Jun 2025) EndedAt: 2025-06-29 23:36:59 -0400 (Sun, 29 Jun 2025) EllapsedTime: 137.4 seconds RetCode: 0 Status: OK CheckDir: BERT.Rcheck Warnings: 0