Package: BEAT Version: 1.47.0 Command: rm -rf BEAT.buildbin-libdir && mkdir BEAT.buildbin-libdir && /Users/biocbuild/BBS/utils/build-universal.sh BEAT_1.47.0.tar.gz /Library/Frameworks/R.framework/Resources/bin/R BEAT.buildbin-libdir StartedAt: 2025-07-21 22:17:56 -0400 (Mon, 21 Jul 2025) EndedAt: 2025-07-21 22:18:13 -0400 (Mon, 21 Jul 2025) EllapsedTime: 17.3 seconds RetCode: 0 Status: OK PackageFile: BEAT_1.47.0.tgz PackageFileSize: 3.35 MiB