Package: BCRANK Version: 1.71.0 Command: /home/biocbuild/bbs-3.22-bioc/R/bin/R CMD check --install=check:BCRANK.install-out.txt --library=/home/biocbuild/bbs-3.22-bioc/R/site-library --timings BCRANK_1.71.0.tar.gz StartedAt: 2025-07-07 20:11:59 -0400 (Mon, 07 Jul 2025) EndedAt: 2025-07-07 20:13:14 -0400 (Mon, 07 Jul 2025) EllapsedTime: 75.0 seconds RetCode: 0 Status: OK CheckDir: BCRANK.Rcheck Warnings: 0