Package: BCRANK Version: 1.71.0 Command: /home/biocbuild/bbs-3.22-bioc/R/bin/R CMD build --keep-empty-dirs --no-resave-data --md5 BCRANK StartedAt: 2025-07-15 16:13:01 -0400 (Tue, 15 Jul 2025) EndedAt: 2025-07-15 16:13:21 -0400 (Tue, 15 Jul 2025) EllapsedTime: 20.0 seconds RetCode: 0 Status: OK PackageFile: BCRANK_1.71.0.tar.gz PackageFileSize: 2.903 MiB