Package: BCRANK Version: 1.71.0 Command: /Library/Frameworks/R.framework/Resources/bin/R CMD build --keep-empty-dirs --no-resave-data BCRANK StartedAt: 2025-07-22 15:41:19 -0400 (Tue, 22 Jul 2025) EndedAt: 2025-07-22 15:41:30 -0400 (Tue, 22 Jul 2025) EllapsedTime: 10.1 seconds RetCode: 0 Status: OK PackageFile: BCRANK_1.71.0.tar.gz PackageFileSize: 2.902 MiB